BEGIN:VCALENDAR
VERSION:2.0
PRODID:-//Ukrainian Congress Committee of America - ECPv6.15.20//NONSGML v1.0//EN
CALSCALE:GREGORIAN
METHOD:PUBLISH
X-WR-CALNAME:Ukrainian Congress Committee of America
X-ORIGINAL-URL:https://ucca.org
X-WR-CALDESC:Events for Ukrainian Congress Committee of America
REFRESH-INTERVAL;VALUE=DURATION:PT1H
X-Robots-Tag:noindex
X-PUBLISHED-TTL:PT1H
BEGIN:VTIMEZONE
TZID:America/New_York
BEGIN:DAYLIGHT
TZOFFSETFROM:-0500
TZOFFSETTO:-0400
TZNAME:EDT
DTSTART:20250309T070000
END:DAYLIGHT
BEGIN:STANDARD
TZOFFSETFROM:-0400
TZOFFSETTO:-0500
TZNAME:EST
DTSTART:20251102T060000
END:STANDARD
BEGIN:DAYLIGHT
TZOFFSETFROM:-0500
TZOFFSETTO:-0400
TZNAME:EDT
DTSTART:20260308T070000
END:DAYLIGHT
BEGIN:STANDARD
TZOFFSETFROM:-0400
TZOFFSETTO:-0500
TZNAME:EST
DTSTART:20261101T060000
END:STANDARD
BEGIN:DAYLIGHT
TZOFFSETFROM:-0500
TZOFFSETTO:-0400
TZNAME:EDT
DTSTART:20270314T070000
END:DAYLIGHT
BEGIN:STANDARD
TZOFFSETFROM:-0400
TZOFFSETTO:-0500
TZNAME:EST
DTSTART:20271107T060000
END:STANDARD
END:VTIMEZONE
BEGIN:VEVENT
DTSTART;TZID=America/New_York:20260424T000000
DTEND;TZID=America/New_York:20260424T235959
DTSTAMP:20260424T220743
CREATED:20240522T190300Z
LAST-MODIFIED:20240522T190300Z
UID:10193-1776988800-1777075199@ucca.org
SUMMARY:Arbor Day - День посадки дерев (United States)
DESCRIPTION:
URL:https://ucca.org/event/arbor-day-%d0%b4%d0%b5%d0%bd%d1%8c-%d0%bf%d0%be%d1%81%d0%b0%d0%b4%d0%ba%d0%b8-%d0%b4%d0%b5%d1%80%d0%b5%d0%b2-united-states-4/
END:VEVENT
BEGIN:VEVENT
DTSTART;TZID=America/New_York:20260424T000000
DTEND;TZID=America/New_York:20260424T235959
DTSTAMP:20260424T220743
CREATED:20240522T190300Z
LAST-MODIFIED:20240522T190300Z
UID:10194-1776988800-1777075199@ucca.org
SUMMARY:(1646) Union of Uzhhorod - Ужгородська унія (Ukraine)
DESCRIPTION:
URL:https://ucca.org/event/1646-union-of-uzhhorod-%d1%83%d0%b6%d0%b3%d0%be%d1%80%d0%be%d0%b4%d1%81%d1%8c%d0%ba%d0%b0-%d1%83%d0%bd%d1%96%d1%8f-ukraine-4/
END:VEVENT
BEGIN:VEVENT
DTSTART;TZID=America/New_York:20260426T000000
DTEND;TZID=America/New_York:20260426T235959
DTSTAMP:20260424T220743
CREATED:20240522T190300Z
LAST-MODIFIED:20240522T190300Z
UID:10195-1777161600-1777247999@ucca.org
SUMMARY:(1986) International Chernobyl Disaster Remembrance Day - Міжнародний день пам'яті про чорнобильську катастрофу
DESCRIPTION:
URL:https://ucca.org/event/1986-international-chernobyl-disaster-remembrance-day-%d0%bc%d1%96%d0%b6%d0%bd%d0%b0%d1%80%d0%be%d0%b4%d0%bd%d0%b8%d0%b9-%d0%b4%d0%b5%d0%bd%d1%8c-%d0%bf%d0%b0%d0%bc%d1%8f%d1%82%d1%96-%d0%bf-4/
END:VEVENT
END:VCALENDAR